BEGIN:VCALENDAR
VERSION:2.0
PRODID:-//SP Rapperswil-Jona - ECPv6.15.6//NONSGML v1.0//EN
CALSCALE:GREGORIAN
METHOD:PUBLISH
X-WR-CALNAME:SP Rapperswil-Jona
X-ORIGINAL-URL:https://sprj.ch
X-WR-CALDESC:Veranstaltungen im SP Rapperswil-Jona
REFRESH-INTERVAL;VALUE=DURATION:PT1H
X-Robots-Tag:noindex
X-PUBLISHED-TTL:PT1H
BEGIN:VTIMEZONE
TZID:Europe/Zurich
BEGIN:DAYLIGHT
TZOFFSETFROM:+0100
TZOFFSETTO:+0200
TZNAME:CEST
DTSTART:20220327T010000
END:DAYLIGHT
BEGIN:STANDARD
TZOFFSETFROM:+0200
TZOFFSETTO:+0100
TZNAME:CET
DTSTART:20221030T010000
END:STANDARD
BEGIN:DAYLIGHT
TZOFFSETFROM:+0100
TZOFFSETTO:+0200
TZNAME:CEST
DTSTART:20230326T010000
END:DAYLIGHT
BEGIN:STANDARD
TZOFFSETFROM:+0200
TZOFFSETTO:+0100
TZNAME:CET
DTSTART:20231029T010000
END:STANDARD
BEGIN:DAYLIGHT
TZOFFSETFROM:+0100
TZOFFSETTO:+0200
TZNAME:CEST
DTSTART:20240331T010000
END:DAYLIGHT
BEGIN:STANDARD
TZOFFSETFROM:+0200
TZOFFSETTO:+0100
TZNAME:CET
DTSTART:20241027T010000
END:STANDARD
END:VTIMEZONE
BEGIN:VEVENT
DTSTART;TZID=Europe/Zurich:20231116T190000
DTEND;TZID=Europe/Zurich:20231116T210000
DTSTAMP:20260420T164413
CREATED:20230805T164814Z
LAST-MODIFIED:20230805T164826Z
UID:88562-1700161200-1700168400@sprj.ch
SUMMARY:Vorstandssitzung SPRJ
DESCRIPTION:
URL:https://sprj.ch/events/vorstandssitzung-sprj-2/
CATEGORIES:Vorstandssitzung
END:VEVENT
END:VCALENDAR